BEGIN:VCALENDAR
VERSION:2.0
PRODID:-//Hilanderas Producciones - ECPv6.15.20//NONSGML v1.0//EN
CALSCALE:GREGORIAN
METHOD:PUBLISH
X-WR-CALNAME:Hilanderas Producciones
X-ORIGINAL-URL:https://hilanderasproducciones.com
X-WR-CALDESC:Eventos para Hilanderas Producciones
REFRESH-INTERVAL;VALUE=DURATION:PT1H
X-Robots-Tag:noindex
X-PUBLISHED-TTL:PT1H
BEGIN:VTIMEZONE
TZID:UTC
BEGIN:STANDARD
TZOFFSETFROM:+0000
TZOFFSETTO:+0000
TZNAME:UTC
DTSTART:20230101T000000
END:STANDARD
END:VTIMEZONE
BEGIN:VEVENT
DTSTART;TZID=UTC:20241031T200000
DTEND;TZID=UTC:20241031T210000
DTSTAMP:20260423T130232
CREATED:20240704T115109Z
LAST-MODIFIED:20240704T115109Z
UID:635-1730404800-1730408400@hilanderasproducciones.com
SUMMARY:Catalina y Elena
DESCRIPTION:Historia de dos hombres
URL:https://hilanderasproducciones.com/event/catalina-y-elena
LOCATION:Universidad de Sevilla\, C/ Madre de Dios\, 1\, Casco Antiguo\, Sevilla\, Sevilla\, 41004\, España
END:VEVENT
END:VCALENDAR