BEGIN:VCALENDAR
VERSION:2.0
PRODID:-//Hilanderas Producciones - ECPv6.15.20//NONSGML v1.0//EN
CALSCALE:GREGORIAN
METHOD:PUBLISH
X-WR-CALNAME:Hilanderas Producciones
X-ORIGINAL-URL:https://hilanderasproducciones.com
X-WR-CALDESC:Eventos para Hilanderas Producciones
REFRESH-INTERVAL;VALUE=DURATION:PT1H
X-Robots-Tag:noindex
X-PUBLISHED-TTL:PT1H
BEGIN:VTIMEZONE
TZID:UTC
BEGIN:STANDARD
TZOFFSETFROM:+0000
TZOFFSETTO:+0000
TZNAME:UTC
DTSTART:20240101T000000
END:STANDARD
END:VTIMEZONE
BEGIN:VEVENT
DTSTART;VALUE=DATE:20250205
DTEND;VALUE=DATE:20250206
DTSTAMP:20260421T201936
CREATED:20250210T152840Z
LAST-MODIFIED:20250210T152840Z
UID:695-1738713600-1738799999@hilanderasproducciones.com
SUMMARY:"Acercando a los Autores: Generación del 98"
DESCRIPTION:
URL:https://hilanderasproducciones.com/event/acercando-a-los-autores-generacion-del-98
LOCATION:Colegio Agustiniano
ORGANIZER;CN="Hilanderas Producciones":MAILTO:hola@hilanderasproducciones.com
END:VEVENT
END:VCALENDAR