BEGIN:VCALENDAR
VERSION:2.0
PRODID:-//Hilanderas Producciones - ECPv6.15.20//NONSGML v1.0//EN
CALSCALE:GREGORIAN
METHOD:PUBLISH
X-WR-CALNAME:Hilanderas Producciones
X-ORIGINAL-URL:https://hilanderasproducciones.com
X-WR-CALDESC:Eventos para Hilanderas Producciones
REFRESH-INTERVAL;VALUE=DURATION:PT1H
X-Robots-Tag:noindex
X-PUBLISHED-TTL:PT1H
BEGIN:VTIMEZONE
TZID:UTC
BEGIN:STANDARD
TZOFFSETFROM:+0000
TZOFFSETTO:+0000
TZNAME:UTC
DTSTART:20240101T000000
END:STANDARD
END:VTIMEZONE
BEGIN:VEVENT
DTSTART;VALUE=DATE:20250402
DTEND;VALUE=DATE:20250403
DTSTAMP:20260421T125510
CREATED:20240917T130024Z
LAST-MODIFIED:20240917T130024Z
UID:688-1743552000-1743638399@hilanderasproducciones.com
SUMMARY:Acercando a los Autores
DESCRIPTION:
URL:https://hilanderasproducciones.com/event/acercando-a-los-autores-26
LOCATION:Gran Teatro de Villarrobledo\, C. Virgen\, 3\, Villarrobledo\, Albacete\, 02600\, España
ORGANIZER;CN="Hilanderas Producciones":MAILTO:hola@hilanderasproducciones.com
END:VEVENT
END:VCALENDAR