BEGIN:VCALENDAR
VERSION:2.0
PRODID:-//Hilanderas Producciones - ECPv6.15.20//NONSGML v1.0//EN
CALSCALE:GREGORIAN
METHOD:PUBLISH
X-ORIGINAL-URL:https://hilanderasproducciones.com
X-WR-CALDESC:Eventos para Hilanderas Producciones
REFRESH-INTERVAL;VALUE=DURATION:PT1H
X-Robots-Tag:noindex
X-PUBLISHED-TTL:PT1H
BEGIN:VTIMEZONE
TZID:UTC
BEGIN:STANDARD
TZOFFSETFROM:+0000
TZOFFSETTO:+0000
TZNAME:UTC
DTSTART:20240101T000000
END:STANDARD
END:VTIMEZONE
BEGIN:VEVENT
DTSTART;VALUE=DATE:20250604
DTEND;VALUE=DATE:20250605
DTSTAMP:20260421T095913
CREATED:20250210T153333Z
LAST-MODIFIED:20250210T153333Z
UID:709-1748995200-1749081599@hilanderasproducciones.com
SUMMARY:"Acercando a los Autores: Siglo de Oro" y "Generación del 98"
DESCRIPTION:
URL:https://hilanderasproducciones.com/event/acercando-a-los-autores-siglo-de-oro-y-generacion-del-98-3
LOCATION:Colegio Jesús Maestro\, Madrid
ORGANIZER;CN="Hilanderas Producciones":MAILTO:hola@hilanderasproducciones.com
END:VEVENT
END:VCALENDAR