BEGIN:VCALENDAR
VERSION:2.0
PRODID:-//Hilanderas Producciones - ECPv6.15.20//NONSGML v1.0//EN
CALSCALE:GREGORIAN
METHOD:PUBLISH
X-ORIGINAL-URL:https://hilanderasproducciones.com
X-WR-CALDESC:Eventos para Hilanderas Producciones
REFRESH-INTERVAL;VALUE=DURATION:PT1H
X-Robots-Tag:noindex
X-PUBLISHED-TTL:PT1H
BEGIN:VTIMEZONE
TZID:UTC
BEGIN:STANDARD
TZOFFSETFROM:+0000
TZOFFSETTO:+0000
TZNAME:UTC
DTSTART:20240101T000000
END:STANDARD
END:VTIMEZONE
BEGIN:VEVENT
DTSTART;VALUE=DATE:20250312
DTEND;VALUE=DATE:20250313
DTSTAMP:20260421T125811
CREATED:20250210T153046Z
LAST-MODIFIED:20250225T091212Z
UID:700-1741737600-1741823999@hilanderasproducciones.com
SUMMARY:"Acercando a los Autores: Escritora"
DESCRIPTION:
URL:https://hilanderasproducciones.com/event/acercando-a-los-autores-escritora
LOCATION:Casa de la Cultura de Montserrat
END:VEVENT
BEGIN:VEVENT
DTSTART;VALUE=DATE:20250314
DTEND;VALUE=DATE:20250315
DTSTAMP:20260421T125811
CREATED:20250210T153129Z
LAST-MODIFIED:20250210T153129Z
UID:704-1741910400-1741996799@hilanderasproducciones.com
SUMMARY:"Acercando a los Autores: Géneros literarios" y "Siglo de Oro"
DESCRIPTION:
URL:https://hilanderasproducciones.com/event/acercando-a-los-autores-generos-literarios-y-siglo-de-oro
LOCATION:IES Las Rozas I\, Las Rozas
ORGANIZER;CN="Hilanderas Producciones":MAILTO:hola@hilanderasproducciones.com
END:VEVENT
BEGIN:VEVENT
DTSTART;VALUE=DATE:20250321
DTEND;VALUE=DATE:20250322
DTSTAMP:20260421T125811
CREATED:20250210T153230Z
LAST-MODIFIED:20250210T153230Z
UID:706-1742515200-1742601599@hilanderasproducciones.com
SUMMARY:"Acercando a los Autores: Siglo de Oro" y "Generación del 98"
DESCRIPTION:
URL:https://hilanderasproducciones.com/event/acercando-a-los-autores-siglo-de-oro-y-generacion-del-98-2
LOCATION:Colegio Arcadia
ORGANIZER;CN="Hilanderas Producciones":MAILTO:hola@hilanderasproducciones.com
END:VEVENT
END:VCALENDAR