BEGIN:VCALENDAR
VERSION:2.0
PRODID:-//Hilanderas Producciones - ECPv6.15.20//NONSGML v1.0//EN
CALSCALE:GREGORIAN
METHOD:PUBLISH
X-ORIGINAL-URL:https://hilanderasproducciones.com
X-WR-CALDESC:Eventos para Hilanderas Producciones
REFRESH-INTERVAL;VALUE=DURATION:PT1H
X-Robots-Tag:noindex
X-PUBLISHED-TTL:PT1H
BEGIN:VTIMEZONE
TZID:UTC
BEGIN:STANDARD
TZOFFSETFROM:+0000
TZOFFSETTO:+0000
TZNAME:UTC
DTSTART:20240101T000000
END:STANDARD
END:VTIMEZONE
BEGIN:VEVENT
DTSTART;VALUE=DATE:20250401
DTEND;VALUE=DATE:20250402
DTSTAMP:20260421T112304
CREATED:20240917T130331Z
LAST-MODIFIED:20240917T130331Z
UID:690-1743465600-1743551999@hilanderasproducciones.com
SUMMARY:Acercando a los Autores
DESCRIPTION:Funciones escolares en centro educativo de Madrid
URL:https://hilanderasproducciones.com/event/acercando-a-los-autores-27
END:VEVENT
BEGIN:VEVENT
DTSTART;VALUE=DATE:20250402
DTEND;VALUE=DATE:20250403
DTSTAMP:20260421T112304
CREATED:20240917T130024Z
LAST-MODIFIED:20240917T130024Z
UID:688-1743552000-1743638399@hilanderasproducciones.com
SUMMARY:Acercando a los Autores
DESCRIPTION:
URL:https://hilanderasproducciones.com/event/acercando-a-los-autores-26
LOCATION:Gran Teatro de Villarrobledo\, C. Virgen\, 3\, Villarrobledo\, Albacete\, 02600\, España
ORGANIZER;CN="Hilanderas Producciones":MAILTO:hola@hilanderasproducciones.com
END:VEVENT
BEGIN:VEVENT
DTSTART;VALUE=DATE:20250409
DTEND;VALUE=DATE:20250410
DTSTAMP:20260421T112304
CREATED:20240617T081532Z
LAST-MODIFIED:20240617T081532Z
UID:618-1744156800-1744243199@hilanderasproducciones.com
SUMMARY:Acercando a los Autores
DESCRIPTION:
URL:https://hilanderasproducciones.com/event/acercando-a-los-autores-13
LOCATION:Centro Cultural Antonio Machado\, C. de San Román del Valle\, 8\, Madrid\, Madrid\, 28037\, España
ORGANIZER;CN="Hilanderas Producciones":MAILTO:hola@hilanderasproducciones.com
END:VEVENT
BEGIN:VEVENT
DTSTART;VALUE=DATE:20250414
DTEND;VALUE=DATE:20250415
DTSTAMP:20260421T112304
CREATED:20240704T114745Z
LAST-MODIFIED:20240704T114745Z
UID:633-1744588800-1744675199@hilanderasproducciones.com
SUMMARY:Acercando a los Autores
DESCRIPTION:
URL:https://hilanderasproducciones.com/event/acercando-a-los-autores-20
LOCATION:Teatro Carolina\, Carrer de Rugat\, 10\, Valencia\, 46021
ORGANIZER;CN="Hilanderas Producciones":MAILTO:hola@hilanderasproducciones.com
END:VEVENT
BEGIN:VEVENT
DTSTART;VALUE=DATE:20250415
DTEND;VALUE=DATE:20250416
DTSTAMP:20260421T112304
CREATED:20240910T115402Z
LAST-MODIFIED:20240910T115547Z
UID:683-1744675200-1744761599@hilanderasproducciones.com
SUMMARY:Acercando a los Autores
DESCRIPTION:
URL:https://hilanderasproducciones.com/event/acercando-a-los-autores-25
LOCATION:Teatro Carolina\, Carrer de Rugat\, 10\, Valencia\, 46021
ORGANIZER;CN="Hilanderas Producciones":MAILTO:hola@hilanderasproducciones.com
END:VEVENT
BEGIN:VEVENT
DTSTART;VALUE=DATE:20250423
DTEND;VALUE=DATE:20250424
DTSTAMP:20260421T112304
CREATED:20240617T115612Z
LAST-MODIFIED:20240906T114701Z
UID:629-1745366400-1745452799@hilanderasproducciones.com
SUMMARY:Acercando a los Autores
DESCRIPTION:
URL:https://hilanderasproducciones.com/event/acercando-a-los-autores-19
LOCATION:Teatro Madrid Flamenco (antes Teatro Alfil)\, C. del Pez\, 10\, Centro\, Madrid\, Madrid\, 28004
ORGANIZER;CN="Hilanderas Producciones":MAILTO:hola@hilanderasproducciones.com
END:VEVENT
END:VCALENDAR